BEGIN:VCALENDAR
VERSION:2.0
PRODID:-//Black Gold Brewery - ECPv6.15.20//NONSGML v1.0//EN
CALSCALE:GREGORIAN
METHOD:PUBLISH
X-WR-CALNAME:Black Gold Brewery
X-ORIGINAL-URL:https://blackgold.beer
X-WR-CALDESC:Events for Black Gold Brewery
REFRESH-INTERVAL;VALUE=DURATION:PT1H
X-Robots-Tag:noindex
X-PUBLISHED-TTL:PT1H
BEGIN:VTIMEZONE
TZID:America/Toronto
BEGIN:DAYLIGHT
TZOFFSETFROM:-0500
TZOFFSETTO:-0400
TZNAME:EDT
DTSTART:20230312T070000
END:DAYLIGHT
BEGIN:STANDARD
TZOFFSETFROM:-0400
TZOFFSETTO:-0500
TZNAME:EST
DTSTART:20231105T060000
END:STANDARD
BEGIN:DAYLIGHT
TZOFFSETFROM:-0500
TZOFFSETTO:-0400
TZNAME:EDT
DTSTART:20240310T070000
END:DAYLIGHT
BEGIN:STANDARD
TZOFFSETFROM:-0400
TZOFFSETTO:-0500
TZNAME:EST
DTSTART:20241103T060000
END:STANDARD
BEGIN:DAYLIGHT
TZOFFSETFROM:-0500
TZOFFSETTO:-0400
TZNAME:EDT
DTSTART:20250309T070000
END:DAYLIGHT
BEGIN:STANDARD
TZOFFSETFROM:-0400
TZOFFSETTO:-0500
TZNAME:EST
DTSTART:20251102T060000
END:STANDARD
BEGIN:DAYLIGHT
TZOFFSETFROM:-0500
TZOFFSETTO:-0400
TZNAME:EDT
DTSTART:20260308T070000
END:DAYLIGHT
BEGIN:STANDARD
TZOFFSETFROM:-0400
TZOFFSETTO:-0500
TZNAME:EST
DTSTART:20261101T060000
END:STANDARD
END:VTIMEZONE
BEGIN:VEVENT
DTSTART;TZID=America/Toronto:20251120T190000
DTEND;TZID=America/Toronto:20251120T220000
DTSTAMP:20260420T185012
CREATED:20251018T190525Z
LAST-MODIFIED:20251018T190525Z
UID:10002093-1763665200-1763676000@blackgold.beer
SUMMARY:Live Music Thursday - Jason Mercer
DESCRIPTION:We welcome Jason Mercer back to our Taproom on Thursday\, November 20th from 7-10pm! \nJason is a singer/songwriter/musician from London\, ON. He is well-versed in everything from Classic Rock\, Country to Top 40. He has some newly released original Country music. \nCheck out more details about Jason. \n 
URL:https://blackgold.beer/event/live-music-thursday-jason-mercer-4/
CATEGORIES:On-Site
ATTACH;FMTTYPE=image/png:https://blackgold.beer/wp-content/uploads/2024/07/BGBLiveMusic-JasonMercer.png
END:VEVENT
BEGIN:VEVENT
DTSTART;TZID=America/Toronto:20251009T190000
DTEND;TZID=America/Toronto:20251009T220000
DTSTAMP:20260420T185012
CREATED:20250829T144105Z
LAST-MODIFIED:20250829T144105Z
UID:10002085-1760036400-1760047200@blackgold.beer
SUMMARY:Live Music Thursday - Jason Mercer
DESCRIPTION:We welcome Jason Mercer back to our Taproom on Thursday\, October 9th from 7-10pm! \nJason is a singer/songwriter/musician from London\, ON. He is well-versed in everything from Classic Rock\, Country to Top 40. He has some newly released original Country music. \nCheck out more details about Jason. \n 
URL:https://blackgold.beer/event/live-music-thursday-jason-mercer-3/
CATEGORIES:On-Site
ATTACH;FMTTYPE=image/png:https://blackgold.beer/wp-content/uploads/2024/07/BGBLiveMusic-JasonMercer.png
END:VEVENT
BEGIN:VEVENT
DTSTART;TZID=America/Toronto:20250814T190000
DTEND;TZID=America/Toronto:20250814T220000
DTSTAMP:20260420T185012
CREATED:20250804T162327Z
LAST-MODIFIED:20250804T162327Z
UID:10002021-1755198000-1755208800@blackgold.beer
SUMMARY:Live Music Thursday - Luke Faria
DESCRIPTION:We welcome Luke Faria to our Taproom on Thursday\, August 14th from 7-10pm! \nCome for the great beer\, stay for the great entertainment! \n 
URL:https://blackgold.beer/event/live-music-thursday-luke-faria/
CATEGORIES:On-Site
END:VEVENT
BEGIN:VEVENT
DTSTART;TZID=America/Toronto:20250807T190000
DTEND;TZID=America/Toronto:20250807T220000
DTSTAMP:20260420T185012
CREATED:20250721T174206Z
LAST-MODIFIED:20250721T174206Z
UID:10002020-1754593200-1754604000@blackgold.beer
SUMMARY:Live Music Thursday - Jason Mercer
DESCRIPTION:We welcome Jason Mercer back to our Taproom on Thursday\, August 7th from 7-10pm! \nJason is a singer/songwriter/musician from London\, ON. He is well-versed in everything from Classic Rock\, Country to Top 40. He has some newly released original Country music. \nCheck out more details about Jason. \n 
URL:https://blackgold.beer/event/live-music-thursday-jason-mercer-2/
CATEGORIES:On-Site
ATTACH;FMTTYPE=image/png:https://blackgold.beer/wp-content/uploads/2024/07/BGBLiveMusic-JasonMercer.png
END:VEVENT
BEGIN:VEVENT
DTSTART;TZID=America/Toronto:20250327T190000
DTEND;TZID=America/Toronto:20250327T220000
DTSTAMP:20260420T185012
CREATED:20250227T162458Z
LAST-MODIFIED:20250227T162458Z
UID:10002001-1743102000-1743112800@blackgold.beer
SUMMARY:Live Music Thursday - Jason Mercer
DESCRIPTION:We welcome Jason Mercer back to our Taproom on Thursday\, March 27th from 7-10pm! \nJason is a singer/songwriter/musician from London\, ON. He is well-versed in everything from Classic Rock\, Country to Top 40. He has some newly released original Country music. \nCheck out more details about Jason. \n 
URL:https://blackgold.beer/event/live-music-thursday-jason-mercer/
CATEGORIES:On-Site
ATTACH;FMTTYPE=image/png:https://blackgold.beer/wp-content/uploads/2024/07/BGBLiveMusic-JasonMercer.png
END:VEVENT
BEGIN:VEVENT
DTSTART;TZID=America/Toronto:20250123T190000
DTEND;TZID=America/Toronto:20250123T220000
DTSTAMP:20260420T185012
CREATED:20250102T013840Z
LAST-MODIFIED:20250102T013840Z
UID:10001988-1737658800-1737669600@blackgold.beer
SUMMARY:Live Music Thursday: Chris Eh Young
DESCRIPTION:Get ready for an amazing evening at Black Gold Brewery! Join us on Thursday\, January 23rd at 7 PM to see the talented Chris Eh Young performing live.  \nBring your friends\, enjoy our craft brews\, and immerse yourself in a night of great music. It’s going to be an experience you won’t want to miss! \nSee you there!
URL:https://blackgold.beer/event/live-music-thursday-chris-eh-young/
CATEGORIES:Live Music
END:VEVENT
BEGIN:VEVENT
DTSTART;TZID=America/Toronto:20241219T190000
DTEND;TZID=America/Toronto:20241219T220000
DTSTAMP:20260420T185012
CREATED:20241122T191724Z
LAST-MODIFIED:20241122T191724Z
UID:10001934-1734634800-1734645600@blackgold.beer
SUMMARY:Live Music Thursday - Jason Mercer
DESCRIPTION:We welcome Jason Mercer back to our Taproom on Thursday\, December 19th from 7-10pm! \nJason is a singer/songwriter/musician from London\, ON. He is well-versed in everything from Classic Rock\, Country to Top 40. He has some newly released original Country music. \nCheck out more details about Jason. \n 
URL:https://blackgold.beer/event/live-music-thursday-jason-mercer-dec19/
CATEGORIES:On-Site
ATTACH;FMTTYPE=image/png:https://blackgold.beer/wp-content/uploads/2024/07/BGBLiveMusic-JasonMercer.png
END:VEVENT
BEGIN:VEVENT
DTSTART;TZID=America/Toronto:20240808T190000
DTEND;TZID=America/Toronto:20240808T220000
DTSTAMP:20260420T185012
CREATED:20240727T001022Z
LAST-MODIFIED:20240727T141710Z
UID:10001904-1723143600-1723154400@blackgold.beer
SUMMARY:Live Music Thursday - Jason Mercer
DESCRIPTION:We are welcoming Jason Mercer to our Taproom for the first time Thursday August 8th from 7-10pm! \nJason is a singer/songwriter/musician from London\, ON. He is well-versed in everything from Classic Rock\, Country to Top 40. He has some newly released original Country music. \nCheck out more details about Jason. \n 
URL:https://blackgold.beer/event/live-music-thursday-20240808/
CATEGORIES:On-Site
ATTACH;FMTTYPE=image/png:https://blackgold.beer/wp-content/uploads/2024/07/BGBLiveMusic-JasonMercer.png
END:VEVENT
BEGIN:VEVENT
DTSTART;TZID=America/Toronto:20240806T173000
DTEND;TZID=America/Toronto:20240806T200000
DTSTAMP:20260420T185012
CREATED:20240726T235854Z
LAST-MODIFIED:20240727T145514Z
UID:10001900-1722965400-1722974400@blackgold.beer
SUMMARY:Tasty Tuesdays - Sitara
DESCRIPTION:Tuesdays are now even tastier with the addition of rotating food guests at Black Gold Brewery! \nAugust 6th our special food guest will be Sitara from 5:30-8:00 pm. Forget cooking this week and come out to have some tasty Indian food as well as support our local Petrolia Kiwanis Meat Raffle. \nIf you are or know a restaurant or caterer that would like to participate in Tasty Tuesdays and help support our local Kiwanis meat raffles\, contact us at tastytuesdays@blackgold.beer
URL:https://blackgold.beer/event/tasty-tuesdays-20240806/
CATEGORIES:On-Site
ATTACH;FMTTYPE=image/png:https://blackgold.beer/wp-content/uploads/2024/02/TastyTuesday-Sitara.png
END:VEVENT
END:VCALENDAR