BEGIN:VCALENDAR
VERSION:2.0
PRODID:-//Black Gold Brewery - ECPv6.15.20//NONSGML v1.0//EN
CALSCALE:GREGORIAN
METHOD:PUBLISH
X-WR-CALNAME:Black Gold Brewery
X-ORIGINAL-URL:https://blackgold.beer
X-WR-CALDESC:Events for Black Gold Brewery
REFRESH-INTERVAL;VALUE=DURATION:PT1H
X-Robots-Tag:noindex
X-PUBLISHED-TTL:PT1H
BEGIN:VTIMEZONE
TZID:America/Toronto
BEGIN:DAYLIGHT
TZOFFSETFROM:-0500
TZOFFSETTO:-0400
TZNAME:EDT
DTSTART:20250309T070000
END:DAYLIGHT
BEGIN:STANDARD
TZOFFSETFROM:-0400
TZOFFSETTO:-0500
TZNAME:EST
DTSTART:20251102T060000
END:STANDARD
BEGIN:DAYLIGHT
TZOFFSETFROM:-0500
TZOFFSETTO:-0400
TZNAME:EDT
DTSTART:20260308T070000
END:DAYLIGHT
BEGIN:STANDARD
TZOFFSETFROM:-0400
TZOFFSETTO:-0500
TZNAME:EST
DTSTART:20261101T060000
END:STANDARD
BEGIN:DAYLIGHT
TZOFFSETFROM:-0500
TZOFFSETTO:-0400
TZNAME:EDT
DTSTART:20270314T070000
END:DAYLIGHT
BEGIN:STANDARD
TZOFFSETFROM:-0400
TZOFFSETTO:-0500
TZNAME:EST
DTSTART:20271107T060000
END:STANDARD
END:VTIMEZONE
BEGIN:VEVENT
DTSTART;TZID=America/Toronto:20260723T190000
DTEND;TZID=America/Toronto:20260723T220000
DTSTAMP:20260420T165055
CREATED:20260410T202928Z
LAST-MODIFIED:20260410T204247Z
UID:10002253-1784833200-1784844000@blackgold.beer
SUMMARY:Live Music Thursday - Jason Mercer
DESCRIPTION:Jason Mercer is a cornerstone of the Southwestern Ontario live music scene\, known for his high-energy performances and “powerhouse” vocal delivery. A versatile solo artist\, Mercer has carved out a massive reputation across the regional brewery and festival circuit\, becoming a fan-favorite at venues like Black Gold Brewery. \nWhen you see Jason Mercer live\, you’re getting more than just a guy with a guitar. He is known for:\nDynamic Setlists: Seamlessly blending soulful folk\, driving rock\, and modern country.\nAcoustic Power: His ability to command a room with just an acoustic guitar and a stomp-box\, delivering a “full band” energy in a solo format.\nCommunity Connection: A veteran of the “Live Music Thursday” and “Friday Night” circuits\, he is celebrated for his reliability\, professional showmanship\, and ability to keep a crowd engaged from the first chord to the last.
URL:https://blackgold.beer/event/live-music-thursday-jason-mercer-5/
CATEGORIES:On-Site
ATTACH;FMTTYPE=image/png:https://blackgold.beer/wp-content/uploads/2026/04/Jason-Mercer.png
END:VEVENT
END:VCALENDAR